BEGIN:VCALENDAR
VERSION:2.0
PRODID:-//Sabre//Sabre VObject 3.1.3//EN
CALSCALE:GREGORIAN
METHOD:PUBLISH
BEGIN:VEVENT
UID:26DEL08D1
SUMMARY:Parkinson : Bilan\, prise en charge et parcours du patient en kiné
 sithérapie
DESCRIPTION:A DISTANCE\n\nPrérequis : KinésithérapeuteFormateur : Emmanu
 el CHOPIN -> en savoir plus sur votre INK Expert\, cliquez ici Possibilit
 é d indemnisation dans le cadre du DPC : 133 /  e-learning + classe vir
 tuellePublic cible : KinésithérapeuteDurée : 11h e-learning + 2h d éch
 anges en classe virtuelleDans le cadre de ce programme intégré\, combina
 nt formation continue et évaluation des pratiques professionnelles (EPP)\
 , vous commencerez par la phase de formation continue. Vous retrouverez to
 ut ce qu il faut savoir sur le bilan et la prise en charge des patients pa
 rkinsoniens.L objectif général est d acquérir les connaissances nécess
 aires à l évaluation et à la rééducation kinésithérapique des patie
 nts atteints de syndromes parkinsoniens.Basée sur les dernières évoluti
 ons scientifiques\, cette formation construite en 9 modules vous permettra
  de balayer l ensemble des connaissance théoriques et pratiques en lien a
 vec la prise en charge kinésithérapique de la maladie de Parkinson.De no
 mbreuses vidéos vous permettront de voir en pratique le formateur auprès
  de ses patients.Vous aurez également des quiz et des cas cliniques qui r
 ythmeront la formation et vous permettront de faire le point sur l avancé
 e de vos savoirs.La seconde partie\, dédiée à l EPP\, vous invitera à 
 confronter votre raisonnement clinique à celui d un groupe d experts. Cet
 te étape s articule autour des tests de concordance de script (TCS)\, une
  méthode pédagogique innovante qui vous permettra d affiner votre réfle
 xion clinique en la comparant à celle de praticiens expérimentés. La fo
 rmation se conclura par un temps d échange en classe virtuelle de 2 heure
 s\, animé par votre formateur. Ce moment d échange privilégié vous off
 rira l opportunité de poser vos questions\, partager vos expériences et 
 approfondir les notions abordées avec notre expert.L objectif général e
 st d acquérir les connaissances nécessaires à l évaluation et à la r
 ééducation kinésithérapique des patients atteints de syndromes extra-p
 yramidaux.Il est également de mieux appréhender l impact des déficience
 s sur le fonctionnement et  la participation.Objectifs généraux :- Compr
 endre et maitriser les conduites thérapeutiques adaptées aux traitements
  des patients atteints de maladie de Parkinson- Maitriser les différents 
 critères et échelles d évaluation permettant de venir en aide aux kiné
 sithérapeutes dans leurs choix thérapeutiques et dans l appréciation de
  l efficacité de leurs traitements.- Identifier et évaluer les déficien
 ces liées à la maladie de Parkinson- Élaborer une fiche de synthèse- D
 éterminer une démarche thérapeutique propre à chaque patient- Savoir l
 a concevoir et la mettre en uvre- Utiliser et adapter les techniques de 
 kinésithérapie en fonction de la nature des syndromes- Évaluer les rés
 ultats obtenusObjectifs spécifiques :- Être capable d évaluer sa pratiq
 ue clinique par un audit objectif et reproductible- Comprendre l intérêt
  d intégrer une démarche d amélioration des pratiques tout au long de s
 a vie professionnelle- Mettre en application les objectifs généraux sur 
 les patients pris en charge\n
DTSTART:20260531T220000Z
DTSTAMP:20260531T220000Z
DTEND:20260819T220000Z
END:VEVENT
END:VCALENDAR
