BEGIN:VCALENDAR
VERSION:2.0
PRODID:-//Sabre//Sabre VObject 3.1.3//EN
CALSCALE:GREGORIAN
METHOD:PUBLISH
BEGIN:VEVENT
UID:26DEL02B
SUMMARY:Pathologies du coureur : prise en charge des douleurs chroniques ch
 ez l'adulte
DESCRIPTION:A DISTANCE\n\nPrérequis : KinésithérapeuteFormateur : Cédri
 c ROBERT -> en savoir plus sur votre INK ExpertPossibilité de prise en ch
 arge FIF PL : 150 Au cours de cette formation de 7h\, Cédric ROBERT vou
 s apportera toutes les notions théoriques ainsi que les cas cliniques pou
 r pouvoir vous confronter au mieux à des situations que vous rencontrez d
 ans votre exercice au quotidien.Vous aurez également toutes les clés pou
 r pour prendre en charge vos patients coureurs et être efficace. Objectif
 s pédagogiques généraux :- Faciliter les prises en charge non médicame
 nteuses de la douleur chronique- Faciliter l appropriation par le kinésit
 hérapeute\, d une prise en charge plusglobale- Améliorer la compétence 
 du kinésithérapeute et la qualité de sa prise en chargesur les patholog
 ies en lien avec la course à pied- Permettre au kinésithérapeute de se 
 prévaloir auprès des prescripteurs\, en tantqu acteur de la prise en cha
 rge de ces pathologies spécifiquesObjectifs pédagogiques spécifiques :-
  Acquérir les savoirs actualisés de la physiologie\, physiopathologie de
 sprocessus douloureux- Maîtriser les bilans spécifiques de la douleur ch
 ronique chez le coureur - Proposer des prises en charge personnalisées et
  adaptées- Apprendre à développer avec le patient des stratégies utile
 s pour la prise encharge de la douleur et la prévention des risques de ch
 ronicisation voir derechute- Développer l autonomisation du patient - Con
 struire un traitement de la douleur en tenant compte des différentesdimen
 sions bio-psycho-sociales\n
DTSTART:20260331T220000Z
DTSTAMP:20260331T220000Z
DTEND:20260629T220000Z
END:VEVENT
END:VCALENDAR
