BEGIN:VCALENDAR
VERSION:2.0
PRODID:-//Sabre//Sabre VObject 3.1.3//EN
CALSCALE:GREGORIAN
METHOD:PUBLISH
BEGIN:VEVENT
UID:16ECHO31
SUMMARY:L'échoscopie musculo-squelettique : un nouvel outil pour le kinés
 ithérapeute
DESCRIPTION:INK\nIMM LE NAUROUZE HALL C RDC\n140 RUE CARMIN\n31670 - LABEGE
 \n\n- Connaître le concept d'échographie.- Savoir quand utiliser l'écho
 graphie au cours du bilan diagnostic du                       patient\, ce
  qu'on peut en attendre\, et les limites de la technique.- Acquérir les n
 otions de base de réglage et de manipulation de l'échographe.- Etre capa
 ble d'obtenir les coupes échographiques permettant l'étude des          
     articulations de l'épaule\, du coude\, du poignet et de la main.- Rec
 onnaître les signes des principales pathologies détectables en          
                 échographie.\n
DTSTART:20160602T220000Z
DTSTAMP:20160602T220000Z
DTEND:20160603T220000Z
END:VEVENT
END:VCALENDAR
