BEGIN:VCALENDAR
VERSION:2.0
PRODID:-//Sabre//Sabre VObject 3.1.3//EN
CALSCALE:GREGORIAN
METHOD:PUBLISH
BEGIN:VEVENT
UID:26D80
SUMMARY:Cancer du sein et épaule\, reconstruction mammaire et rééducatio
 n
DESCRIPTION:INSTITUT NATIONAL DE LA KINESITHERAPIE\n3 RUE LESPAGNOL\n(dans 
 la rue du Repos)\n75020 - PARIS\n\nA l issue de ce stage\, les kinésithé
 rapeutes sauront :1. Maîtriser les techniques de mobilisation précoce po
 ur prévenir les complications post-opératoires telles que la raideur art
 iculaire\, l dème et les adhérences tissulaires.2. Acquérir des comp
 étences en exercices spécifiques de renforcement musculaire pour restaur
 er la force et la fonctionnalité du membre supérieur\, tout en préserva
 nt la chirurgie de reconstruction.3. Apprendre les techniques de rééduca
 tion focalisées sur un symptôme (douleur\, raideur\, kinésiophobie)4. A
 pprendre les techniques de réadaptation globale pour aider les patientes 
 à retrouver leur estime de soi et à réintégrer pleinement leur vie per
 sonnelle\, sociale et professionnelle après la chirurgie.5. Se familiaris
 er avec l utilisation des dispositifs médicaux tels que les prothèses et
  les soutien-gorges post-chirurgicaux pour conseiller les patientes et opt
 imiser le onfort dans leur quotidien.6. Éduquer les patientes à leur aut
 onomie sur les techniques d auto-soins\, pour favoriser la récupération 
 et prévenir les complications à long terme.\n
DTSTART:20261105T230000Z
DTSTAMP:20261105T230000Z
DTEND:20261106T230000Z
END:VEVENT
END:VCALENDAR
