BEGIN:VCALENDAR
VERSION:2.0
PRODID:-//Sabre//Sabre VObject 3.1.3//EN
CALSCALE:GREGORIAN
METHOD:PUBLISH
BEGIN:VEVENT
UID:26D79
SUMMARY:Cancer du sein et rééducation de l'épaule
DESCRIPTION:INSTITUT NATIONAL DE LA KINESITHERAPIE\n3 RUE LESPAGNOL\n(dans 
 la rue du Repos)\n75020 - PARIS\n\nA l issue de ce stage\, les kinésithé
 rapeutes sauront : 1. Comprendre le fonctionnement biomécanique du comple
 xe de l épaule et l impact des traitements cancérologiques sur la modifi
 cation de la cinématique du rythme scapulo-huméral2. Réaliser un bilan 
 complet de l épaule et de la posture de la patiente opérée d un cancer 
 du sein3. Réaliser une rééducation de l épaule spécifique de l épaul
 e en fonction des séquelles induites par la chirurgie.4. Réaliser une r
 ééducation de l épaule spécifique des muscles de la coiffe des rotateu
 rs et de la scapula en fonction de la clinique de chaque patiente.5. Chois
 ir les techniques spécifiques adaptées comme la thérapie manuelle\, la 
 mise en position courte et les techniques neuro-dynamiques en fonction des
  déficiences identifiées de chaque patiente\,6. Les professionnels seron
 t sensibilisés aux indications et contre-indications de leurs traitements
  (drapeaux rouges)7. Les professionnels auront la capacité de donner les 
 informations nécessaires à une bonne éducation thérapeutique pour main
 tenir le résultat du traitement.8. Ils seront capables d enseigner les ge
 stes de prévention permettant d éviter l apparition de tendinopathies de
  l épaule  9. Enfin\, en fonction du contexte\, ils auront la capacité d
  adapter ce traitement en fonction de la fatigue induite par la chimiothé
 rapie.\n
DTSTART:20260917T220000Z
DTSTAMP:20260917T220000Z
DTEND:20260918T220000Z
END:VEVENT
END:VCALENDAR
