BEGIN:VCALENDAR
VERSION:2.0
PRODID:-//Sabre//Sabre VObject 3.1.3//EN
CALSCALE:GREGORIAN
METHOD:PUBLISH
BEGIN:VEVENT
UID:26D131
SUMMARY:Kinésithérapie des cicatrices de l'adulte
DESCRIPTION:ECOLE DE KINESITHERAPIE\n57 BIS RUE NABECOR\n54000 - NANCY\n\nP
 ré-requis : Kinésithérapeute / Physiothérapeute * Cette formation est 
 proposée pour des patients d une tranche d âge spécifique\,  l adulte e
 ntre 20  et  +/-  60 ans\, en effet\, concernant les autres tranches d âg
 e\, L enfant présente des critères d évolution cicatricielle spécifiqu
 es et la personne âgée  a une cicatrisation plus problématique. Dans le
  domaine des plaies\, la recherche scientifique s est surtout concentrée 
 sur les retards de cicatrisation tels\, plaies chroniques\, ulcères variq
 ueux. Certaines pathologies sont à l origine du blocage ou du ralentissem
 ent de leur cicatrisation. Il s agit alors de troubles nutritionnels\, mé
 taboliques\, vasculaires\, neurologiques\, infectieux et médicamenteux. P
 our les patients prises en charge par les masseurs-kinésithérapeutes\, l
 a problématique cicatricielle peut être multiple et concerne surtout les
  excès de cicatrisation. La cicatrice physiologique tend à se rapprocher
  le plus possible du tissu initial et de la peau normale même si la resta
 uration ad integrum ne se fait jamais.Cependant\, certaines cicatrices ne 
 régressent pas spontanément et peuvent être invalidantes sur les plans 
 fonctionnels et esthétiques. Il s agit de cicatrices anormales ou patholo
 giques.Le kinésithérapeute doit connaître le mécanisme de l installati
 on d une cicatrisation anormale pour pouvoir indiquer et surtout contre-in
 diquer certaines techniques de prise en charge\, qu elles soient manuelles
  ou mécaniques. Avec l accord du médecin\, Il peut également avoir un r
 ôle de conseil sur l utilisation de certains dispositifs compressifs et d
 e certaines crèmes pharmaceutiques.Le kinésithérapeute intervient sur l
 es cicatrices qui n ont pas les caractéristiques de la peau normale : sou
 ple\, plane\, mobile\, indolore\, claire. Quelle que soit leur localisatio
 n anatomique et leurs caractéristiques\, quel que soit le moment dans le 
 temps où le kinésithérapeute interviendra\, il pourra être efficace. I
 l est tout à fait possible d être délétère sur une cicatrice. L inté
 rêt du patient et une bonne pratique professionnelle nous imposent de ne 
 pas utiliser sans discernement toutes les techniques à notre portée.Cert
 aines cicatrices ne régressent pas spontanément et peuvent être invalid
 antes pour le patient tant sur le plan esthétique que fonctionnel. Les in
 dications de la kinésithérapie des cicatrices sont nombreuses. A l issue
  de la formation\, le kinésithérapeute sera la capacité de :- Maitriser
  les savoirs en lien avec les troubles cicatriciels notamment cutanés- Co
 nnaître l anatomie de la peau et sa physiologie et sa physiopathologie ci
 catricielle et les troubles circulatoires pouvant contribuer aux défauts 
 de cicatrisation- Connaitre les traitements adaptés au type de cicatrice 
 - Comprendre les différentes méthodes- S approprier les spécificités t
 echniques- Maîtriser à travers le raisonnement clinique la prise en char
 ge de la cicatrice et des troubles vasculaires de la cicatrisation- Mettre
  en lien ses savoirs et savoir-faire en lien avec la cicatrisation avec le
 s éléments recueillis lors de l examen du patient afin de poser l indica
 tion de certaines techniques et de contre-indiquer les autres- Construire 
 et mettre en uvre une rééducation adaptée en fonction du type de lés
 ion et des particularités du patient en intégrant les techniques à vis
 ée circulatoire- Maîtriser à travers le raisonnement clinique la prise 
 en charge spécifique des cicatrices cutanées : choisir\, adapter et dose
 r les techniques employées- Connaître les contre-indications- Informer e
 t d éduquer le patient à des règles d hygiène de vie et de prophylaxie
  en lui prodiguant des conseils et exercices d auto-rééducation- Effectu
 er une évaluation continue de sa pratique professionnelle et de l évolut
 ion de l état de santé du patient.\n
DTSTART:20260903T220000Z
DTSTAMP:20260903T220000Z
DTEND:20260904T220000Z
END:VEVENT
END:VCALENDAR
