BEGIN:VCALENDAR
VERSION:2.0
PRODID:-//Sabre//Sabre VObject 3.1.3//EN
CALSCALE:GREGORIAN
METHOD:PUBLISH
BEGIN:VEVENT
UID:26DEL14D1
SUMMARY:La pratique des experts vs votre pratique - \nAPA et kinésithérap
 ie : promotion de la Santé\, prévention et parcours de soin #ClasseVirtu
 elle
DESCRIPTION:A DISTANCE\n\nPrérequis : KinésithérapeuteFormateur : Nicola
 s ODABACHIAN -> en savoir plus sur votre INK ExpertPossibilité d indemnis
 ation dans le cadre du DPC : 133 /  e-learning + présentiel Public cibl
 e : KinésithérapeuteDurée : 9h e-learning + 2h de formation en classe v
 irtuelleDans le cadre de ce programme intégré\, combinant formation cont
 inue et évaluation des pratiques professionnelles (EPP)\, vous commencere
 z par la phase de formation continue. Celle-ci vise à vous apporter des n
 otions théoriques sur le contexte politique et législatif du sport-sant
 é en France mais aussi des connaissances actualisées\, en s appuyant not
 amment sur des cas cliniques pour ancrer les apprentissages. Vous y décou
 vrirez les éléments essentiels pour conduire un bilan complet\, proposer
  une prise en charge adaptée et favoriser\, accompagner la (re)mise en ac
 tivité physique de vos patients.La seconde partie\, dédiée à l EPP\, v
 ous invitera à confronter votre raisonnement clinique à celui d un group
 e d experts. Cette étape s articule autour des tests de concordance de sc
 ript (TCS)\, une méthode pédagogique innovante qui vous permettra d affi
 ner votre réflexion clinique en la comparant à celle de praticiens expé
 rimentés. La formation se conclura par un temps en classe virtuelle de 2 
 heures\, animé par votre formateur. Ce moment d échange privilégié vou
 s offrira l opportunité de poser vos questions\, partager vos expérience
 s et approfondir les notions abordées avec notre expert.Objectifs génér
 aux :- Connaître les dernières données et connaissances scientifiques a
 utour de l activité physique adaptée (APA)- Maîtrise le contexte légis
 latif et politique du sport santé en France- Maitriser les notions théor
 iques de la réalisation d un bilan de prise en charge de l activité phys
 ique adaptée axé sur les caractéristiques les capacités physique et ps
 ychologique du patient.- Savoir proposer aux patients une prise en charge 
 spécifique et personnalisée en fonction de leur pathologie ou comporteme
 nt sédentaire et alimentaire\,- Connaître la place de l activité physiq
 ue dans l exercice coordonné de la prise en charge des patients ALD et pa
 thologiques chroniques.Objectifs spécifiques :- Être capable d évaluer 
 sa pratique clinique en la comparant à celle d experts- Comprendre l int
 érêt d intégrer une démarche d amélioration des pratiques tout au lon
 g de sa vie professionnelle- Mettre en application les objectifs générau
 x sur les patients pris en charge\n
DTSTART:20260531T220000Z
DTSTAMP:20260531T220000Z
DTEND:20260819T220000Z
END:VEVENT
END:VCALENDAR
