BEGIN:VCALENDAR
VERSION:2.0
PRODID:-//Sabre//Sabre VObject 3.1.3//EN
CALSCALE:GREGORIAN
METHOD:PUBLISH
BEGIN:VEVENT
UID:26DEL36A
SUMMARY:Kinésithérapie et déformations crâniennes positionnelles du nou
 rrisson : L'essentiel de l'actualité
DESCRIPTION:A DISTANCE\n\nPossibilité de prise en charge FIFPL : 375Publ
 ic cible : KinésithérapeuteDurée : 15h e-learningDans cette formation\,
  vous retrouverez tout ce qu il faut savoir sur le bilan et la prise en ch
 arge des patients atteints de déformations crâniennes.L objectif génér
 al est d acquérir les connaissances nécessaires à l évaluation et à l
 a rééducation kinésithérapique des patients atteints de déformations 
 crâniennes positionelles.Basée sur les dernières évolutions scientifiq
 ues\, cette formation construite en 5 modules vous permettra de balayer l 
 ensemble des connaissance théoriques et pratiques en lien avec la prise e
 n charge kinésithérapique des nourrissons.De nombreuses vidéos vous per
 mettront de voir en pratique la formatrice auprès de ses patients.Vous au
 rez également des quiz et des cas cliniques qui rythmeront la formation e
 t vous permettront de faire le point sur l avancée de vos savoirs.Objecti
 f général :Les masseurs-kinésithérapeutes pourront acquérir les savoi
 rs et compétences nécessaires pour pouvoir autonomiser l entourage de le
 urs patients consultant pour une déformation crânienne positionnelle et 
 garantir une prise en charge répondant aux recommandations de bonnes prat
 iques.Objectifs spécifiques :- Maitriser les dernières données et conna
 issances scientifiques autour des déformations crâniennes positionnelles
  du nourisson (torticolis\, plagiocéphalie\, brachycéphalie etc). - Etre
  en mesure d établir un Bilan Diagnostic Kinésithérapique (BDK) nécess
 aire à la mise en place du traitement\, adapté à l aide de bilans valid
 és en fonction du nourrisson et de ses besoins - Etre en mesure de discer
 ner les différentes approches rééducatives basées sur les preuves (dif
 férences\, intérêts\, et limites).- Être capable de concevoir et condu
 ire un projet thérapeutique kinésithérapique\, adapté au patient et à
  sa situation et favorisant une attitude thérapeutique active menée par 
 l entourage du nourrisson.\n
DTSTART:20260131T230000Z
DTSTAMP:20260131T230000Z
DTEND:20261230T230000Z
END:VEVENT
END:VCALENDAR
