BEGIN:VCALENDAR
VERSION:2.0
PRODID:-//Sabre//Sabre VObject 3.1.3//EN
CALSCALE:GREGORIAN
METHOD:PUBLISH
BEGIN:VEVENT
UID:26PILATMA1
SUMMARY:Pilates fondamentaux: applications en prise en charge kinésithéra
 pique
DESCRIPTION:Lieu \n\n97200 - MARTINIQUE\n\nPublic concerné: Masseurs-Kiné
 sithérapeutes/PhysiothérapeutesPrérequis : Diplôme d État de Masso-Ki
 nésithérapieCe stage permettra de comprendre d après les dernières don
 nées de la littérature en quoi le Pilates peut être un outil de réédu
 cation dans toute pathologie entraînant une instabilité lombo-abdo-pelvi
 enne.Il apportera les compétences nécessaires au thérapeute pour enseig
 ner le Pilates en cours de groupe sur tapis (matwork) à des patients ou 
 à une clientèle recherchant l expertise du kinésithérapeute dans le ca
 dre d une activité physique à visée préventive en tenant compte de leu
 r niveau\, de leurs besoins et de leurs objectifs.À l issue de cette form
 ation\, le stagiaire sera en capacité : de comprendre le concept « d i
 nstabilité lombo- abdomino-pelvienne »\, plus particulièrement dans le 
 cadre de la lombalgie chronique et de troubles de la sphère pelvi-périn
 éale \, d établir un bilan de cette stabilisation lombo-abdo- pelvienn
 e basé sur les derniers articles « Evidence- Based » à l aide de diff
 érents tests \, d utiliser une soixantaine d exercices de Pilates sur t
 apis ainsi que leurs multiples adaptations avec petit matériel (cercles\,
  rouleaux\, petits ballons) \, d intégrer la méthode Pilates en rééd
 ucation et développer un programme d exercices en fonction du bilan effec
 tué et des spécificités de la pathologie.\n
DTSTART:20260705T220000Z
DTSTAMP:20260705T220000Z
DTEND:20260707T220000Z
END:VEVENT
END:VCALENDAR
