BEGIN:VCALENDAR
VERSION:2.0
PRODID:-//Sabre//Sabre VObject 3.1.3//EN
CALSCALE:GREGORIAN
METHOD:PUBLISH
BEGIN:VEVENT
UID:26DEL09D2
SUMMARY:Accompagner son patient vers l'autonomie : bilan et prise en charge
  de l'épaule tendineuse
DESCRIPTION:A DISTANCE\n\nPrérequis : KinésithérapeuteFormateur : Vincen
 t GIROD -> en savoir plus sur votre INK Expert\, cliquez iciPossibilité d
  indemnisation dans le cadre du DPC : 133 / e-learning + classe virtuell
 ePublic cible : KinésithérapeuteDurée : 10h e-learning + 2h de formatio
 n classe virtuelle Dans le cadre de ce programme intégré\, combinant for
 mation continue et évaluation des pratiques professionnelles (EPP)\, vous
  commencerez par la phase de formation continue. Celle-ci vise à vous app
 orter des connaissances actualisées\, en s appuyant notamment sur des cas
  cliniques pour ancrer les apprentissages. Vous y découvrirez les éléme
 nts essentiels pour conduire un bilan complet\, proposer une prise en char
 ge adaptée et favoriser l autonomisation de vos patients\, tout en intég
 rant la détection des drapeaux rouges. La seconde partie\, dédiée à l 
 EPP\, vous invitera à confronter votre raisonnement clinique à celui d u
 n groupe d experts. Cette étape s articule autour des tests de concordanc
 e de script (TCS)\, une méthode pédagogique innovante qui vous permettra
  d affiner votre réflexion clinique en la comparant à celle de praticien
 s expérimentés. La formation se conclura par une classe virtuelle de 2 h
 eures\, animée par votre formateur. Ce moment d échange privilégié vou
 s offrira l opportunité de poser vos questions\, partager vos expérience
 s et approfondir les notions abordées avec notre expert. Objectifs géné
 raux :Le but principal de ce programme est de permettre aux stagiaires d a
 ccompagner efficacement et de manière pertinente les patients vers l auto
 nomisation.Toujours de manière générale\, à l issue de cette action DP
 C\, le stagiaire :- sera capable de réaliser un bilan diagnostic kinésit
 hérapie avec une approche fonctionnelle réflexive\, ainsi que d identifi
 er les facteurs de risques et les critères d adhésion et d observance à
  la thérapeutique active- aura actualisé les savoirs conformes aux recom
 mandations de prise en charge des douleurs en lien avec la coiffe des rota
 teurs et aux standards internationaux- sera capable de concevoir et condui
 re un projet thérapeutique kinésithérapique\, adapté au patient et à 
 sa situation et favorisant une attitude thérapeutique active du patient- 
 saura accompagner son patient vers l autonomie tout au long de sa prise en
  chargeObjectifs spécifiques :- Être capable d évaluer sa pratique clin
 ique en la comparant à celle d experts- Comprendre l intérêt d intégre
 r une démarche d amélioration des pratiques tout au long de sa vie profe
 ssionnelle- Mettre en application les objectifs généraux sur les patient
 s consultants pour une douleur de l épaule d origine tendineuse\n
DTSTART:20260524T220000Z
DTSTAMP:20260524T220000Z
DTEND:20260530T220000Z
END:VEVENT
END:VCALENDAR
