BEGIN:VCALENDAR
VERSION:2.0
PRODID:-//Sabre//Sabre VObject 3.1.3//EN
CALSCALE:GREGORIAN
METHOD:PUBLISH
BEGIN:VEVENT
UID:26D71
SUMMARY:Accident vasculaire cérébral et nouvelles modalités de rééduca
 tion motrice
DESCRIPTION:Lieu \n\n66750 - ST CYPRIEN\n\n12 stagiaires formés en 2023 av
 ec une note de satisfaction de 8\,83/10 Pré-requis : Masseur Kinésithér
 apeuteL accident vasculaire cérébral (AVC) est la première cause de han
 dicap acquis de l adulte et la troisième cause de décès en France aujou
 rd hui. La rééducation contribue à diminuer l impact des déficiences s
 ur la dépendance et améliore la qualité de vie des personnes victimes d
  un AVC.Les méthodes de rééducation ont beaucoup évolué au cours des 
 dernières années sous l effet de la recherche. En France\, le guide sur 
 les méthodes de rééducation de la fonction motrice chez l adulte publi
 é par la Haute Autorité de santé (HAS) en 2012. a été complété en j
 uillet 2022 par les recommandations portant sur la rééducation à la pha
 se chronique d un AVC de l adulte.A ce jour\, l évolution des prises en c
 harge en rapport avec des approches plus actives et globales\, l utilisati
 on de nouvelles technologies et de la réalité virtuelle nécessite une 
 évolution des pratiques à travers des actions de formation A l issue de 
 la formation\, le stagiaire sera en capacité de :- Connaitre les méthode
 s thérapeutiques médicales- Comprendre et intégrer les concepts de plas
 ticité cérébrale- Savoir évaluer les déficiences et les limitations d
  activité- Mesurer l impact sur le quotidien du patient- Savoir réaliser
  un diagnostic kinésithérapique intégrant- Favoriser le développement 
 de l information et l autonomie du patient.- Elaborer un plan de rééduca
 tion pertinents\, adaptés à chaque patient\, pour une prise en charge ef
 ficiente et non routinière\, plus active et globale - Maitriser et intég
 rer dans sa pratique\, les recommandations de la HAS- Comprendre et savoir
  utiliser les principales méthodes recommandées- Intégrer dans sa prise
  en charge les outils de réalité virtuelle- Savoir échanger les éléme
 nts pertinents avec les autres professionnels de santé.\n
DTSTART:20260917T220000Z
DTSTAMP:20260917T220000Z
DTEND:20260918T220000Z
END:VEVENT
END:VCALENDAR
