BEGIN:VCALENDAR
VERSION:2.0
PRODID:-//Sabre//Sabre VObject 3.1.3//EN
CALSCALE:GREGORIAN
METHOD:PUBLISH
BEGIN:VEVENT
UID:26PILAT64B
SUMMARY:Pilates fondamentaux: applications en prise en charge kinésithéra
 pique
DESCRIPTION:FJT LES COMPAGNONS D ANGLET\n94 AVENUE DE MONTBRUN\n64600 - ANG
 LET\n\nPublic concerné: Masseurs-Kinésithérapeutes/PhysiothérapeutesPr
 érequis : Diplôme d État de Masso-KinésithérapieCe stage permettra de
  comprendre d après les dernières données de la littérature en quoi le
  Pilates peut être un outil de rééducation dans toute pathologie entra
 înant une instabilité lombo-abdo-pelvienne.Il apportera les compétences
  nécessaires au thérapeute pour enseigner le Pilates en cours de groupe 
 sur tapis (matwork) à des patients ou à une clientèle recherchant l exp
 ertise du kinésithérapeute dans le cadre d une activité physique à vis
 ée préventive en tenant compte de leur niveau\, de leurs besoins et de l
 eurs objectifs.À l issue de cette formation\, le stagiaire sera en capaci
 té : de comprendre le concept « d instabilité lombo- abdomino-pelvien
 ne »\, plus particulièrement dans le cadre de la lombalgie chronique et 
 de troubles de la sphère pelvi-périnéale \, d établir un bilan de ce
 tte stabilisation lombo-abdo- pelvienne basé sur les derniers articles «
  Evidence- Based » à l aide de différents tests \, d utiliser une soi
 xantaine d exercices de Pilates sur tapis ainsi que leurs multiples adapta
 tions avec petit matériel (cercles\, rouleaux\, petits ballons) \, d in
 tégrer la méthode Pilates en rééducation et développer un programme d
  exercices en fonction du bilan effectué et des spécificités de la path
 ologie.\n
DTSTART:20260603T220000Z
DTSTAMP:20260603T220000Z
DTEND:20260605T220000Z
END:VEVENT
END:VCALENDAR
