BEGIN:VCALENDAR
VERSION:2.0
PRODID:-//Sabre//Sabre VObject 3.1.3//EN
CALSCALE:GREGORIAN
METHOD:PUBLISH
BEGIN:VEVENT
UID:26D55
SUMMARY:Accident vasculaire cérébral et nouvelles modalités de rééduca
 tion motrice
DESCRIPTION:INSTITUT NATIONAL DE LA KINESITHERAPIE\n3 RUE LESPAGNOL\n(dans 
 la rue du Repos)\n75020 - PARIS\n\n12 stagiaires formés en 2023 avec une 
 note de satisfaction de 8\,83/10 Pré-requis : Masseur KinésithérapeuteL
  accident vasculaire cérébral (AVC) est la première cause de handicap a
 cquis de l adulte et la troisième cause de décès en France aujourd hui.
  La rééducation contribue à diminuer l impact des déficiences sur la d
 épendance et améliore la qualité de vie des personnes victimes d un AVC
 .Les méthodes de rééducation ont beaucoup évolué au cours des derniè
 res années sous l effet de la recherche. En France\, le guide sur les mé
 thodes de rééducation de la fonction motrice chez l adulte publié par l
 a Haute Autorité de santé (HAS) en 2012. a été complété en juillet 2
 022 par les recommandations portant sur la rééducation à la phase chron
 ique d un AVC de l adulte.A ce jour\, l évolution des prises en charge en
  rapport avec des approches plus actives et globales\, l utilisation de no
 uvelles technologies et de la réalité virtuelle nécessite une évolutio
 n des pratiques à travers des actions de formation A l issue de la format
 ion\, le stagiaire sera en capacité de :- Connaitre les méthodes thérap
 eutiques médicales- Comprendre et intégrer les concepts de plasticité c
 érébrale- Savoir évaluer les déficiences et les limitations d activit
 é- Mesurer l impact sur le quotidien du patient- Savoir réaliser un diag
 nostic kinésithérapique intégrant- Favoriser le développement de l inf
 ormation et l autonomie du patient.- Elaborer un plan de rééducation per
 tinents\, adaptés à chaque patient\, pour une prise en charge efficiente
  et non routinière\, plus active et globale - Maitriser et intégrer dans
  sa pratique\, les recommandations de la HAS- Comprendre et savoir utilise
 r les principales méthodes recommandées- Intégrer dans sa prise en char
 ge les outils de réalité virtuelle- Savoir échanger les éléments pert
 inents avec les autres professionnels de santé.\n
DTSTART:20260924T220000Z
DTSTAMP:20260924T220000Z
DTEND:20260925T220000Z
END:VEVENT
END:VCALENDAR
