BEGIN:VCALENDAR
VERSION:2.0
PRODID:-//Sabre//Sabre VObject 3.1.3//EN
CALSCALE:GREGORIAN
METHOD:PUBLISH
BEGIN:VEVENT
UID:26D54
SUMMARY:Kinésithérapie et maladie de Parkinson
DESCRIPTION:INSTITUT NATIONAL DE LA KINESITHERAPIE\n3 RUE LESPAGNOL\n(dans 
 la rue du Repos)\n75020 - PARIS\n\nTaux de satisfaction moyen des 2 derni
 ères années : 9.13/1026  stagiaires formésPré-requis : Kinésithérape
 ute / PhysiothérapeuteLa maladie de Parkinson est la deuxième maladie ne
 urodégénérative (MND) en France. Les projections pour les années futur
 es évoquent une forte progression du nombre de malades liée notamment au
  vieillissement de la population. Par ailleurs\, la maladie de Parkinson p
 eut également toucher l adulte. Les déficiences apparaissent complexes c
 ar motrices et non motrices.Dans l intérêt du patient\, les efforts doiv
 ent se concentrer sur un repérage précoce\, une prise en charge globale\
 , coordonnée et individualisée dans un parcours de soin adapté.La Haute
  Autorité de Santé (HAS) détaille les points critiques de ce parcours d
 e soin\, l implication des professionnels concernés et en particulier des
  kinésithérapeutes qui sont des acteurs essentiels de la prise en charge
  globale du Patient cum Parkinson (PcP 1 ).A l issue de ce stage\, le stag
 iaire sera en capacité de :- Participer au repérage précoce des maladie
 s neurodégénératives- Comprendre et maitriser le parcours de soin\, l i
 mplication des différents acteurs\, les conduites thérapeutiques adapté
 es aux traitements des patients atteints de maladie de Parkinson et en par
 ticulier des patients jeunes.- Maitriser les différents critères et éch
 elles d évaluation permettant de venir en aide aux kinésithérapeutes da
 ns leurs choix thérapeutiques et dans l appréciation de l efficacité de
  leurs traitements.- Identifier et d évaluer les déficiences liées à l
 a maladie de Parkinson- Elaborer une fiche de synthèse- Déterminer une d
 émarche thérapeutique propre à chaque patient- Savoir la concevoir et l
 a mettre en uvre- Utiliser et adapter les techniques de kinésithérapie
  en fonction de la nature des syndromes- Identifier et gérer de manière 
 adaptée une aggravation des symptômes- Evaluer les résultats obtenus\n
DTSTART:20260611T220000Z
DTSTAMP:20260611T220000Z
DTEND:20260612T220000Z
END:VEVENT
END:VCALENDAR
