BEGIN:VCALENDAR
VERSION:2.0
PRODID:-//Sabre//Sabre VObject 3.1.3//EN
CALSCALE:GREGORIAN
METHOD:PUBLISH
BEGIN:VEVENT
UID:26D43
SUMMARY:Cancer du sein et prise en charge rééducative postopératoire
DESCRIPTION:CENTRE SOCIO FAMILIAL DES VACONS\n10 ALLEE DES JARDINS\n57950 -
  MONTIGNY LES METZ\n\nPré-requis : Kinésithérapeute / Physiothérapeute
 Vidéo de présentationLe cancer du sein concerne chaque année près de 6
 0.000 nouvelles patientes. Premier cancer féminin\, il est un réel probl
 ème de santé publique.Dans le parcours de soins des patientes les kinés
 ithérapeutes sont en première ligne des soins post opératoires. Pour pr
 odiguer des soins de qualité\, il faut connaitre leur parcours de soins p
 réalable. Ainsi\, les kinésithérapeutes doivent connaitre le mode d év
 olution des cancers du sein\, le rôle essentiel du dépistage par mammogr
 aphie et participer à en augmenter le nombre en sensibilisant toutes les 
 patientes de leur cabinet ou service. Ils doivent connaitre les différent
 es interventions conservatrices ou radicales et la chirurgie axillaire pou
 r en appréhender les séquelles éventuelles et les débusquer précoceme
 nt. Les traitements radiothérapiques et médicaux doivent être connus po
 ur distinguer les risques de leurs différents effets secondaires pour les
 quels les kinésithérapeutes peuvent intervenir.A l issue de ce stage\, l
 es kinésithérapeutes connaitront le parcours spécifique d une patiente 
 donnée et les raisons de sa personnalisation de son traitement. Ils auron
 t été sensibilisés au rôle fondamental du dépistage systématique. Il
 s auront les arguments de persuasion pour inciter les autres patientes de 
 leur cabinet ou de leur service à se faire dépister dès l âge de 50 an
 s au rythme d un dépistage tous les deux ans. Dans leur salle d attente\,
  ils seront incités à placarder les affiches des campagnes de dépistage
  Ils auront acquis les connaissances pour conduire une rééducation réfl
 échie et personnalisée au cas de chaque patiente (ganglion sentinelle ou
  curage axillaire\, tumorectomie ou mastectomie\, signification d une chim
 iothérapie néo adjuvante par rapport à adjuvante\, le rôle et les effe
 ts de la radiothérapie sur le complexe de l épaule\, le rôle d un trait
 ement hormonal et son incidence sur les douleurs Ils insisteront sur le r
 ôle de la récupération de l amplitude de l épaule qui est nécessaire 
 pour s installer confortablement sur la table de radiothérapie. Cet impé
 ratif est urgemment demandé par les radiothérapeutes Ils sauront traiter
  les cicatrices\, les lymphocèles\, les thromboses lymphatiques superfici
 elles (cordings ou axillary web syndrom) Ils sauront traiter par drainage 
 manuel un dème du bras\, du sein ou de la paroi thoracique Ils sauront 
 préparer et prendre en charge une patiente à sa reconstruction\, Ils sau
 ront donner les informations nécessaires à une bonne éducation thérape
 utique pour la prévention du lymphdème.Ils auront les arguments pour i
 nciter les patientes à réaliser une activité physique adaptée et l ada
 pter à la fatigue. \n
DTSTART:20260521T220000Z
DTSTAMP:20260521T220000Z
DTEND:20260522T220000Z
END:VEVENT
END:VCALENDAR
