BEGIN:VCALENDAR
VERSION:2.0
PRODID:-//Sabre//Sabre VObject 3.1.3//EN
CALSCALE:GREGORIAN
METHOD:PUBLISH
BEGIN:VEVENT
UID:24DEL12F2
SUMMARY:Accompagner son patient vers l'autonomie : bilan et prise en charge
  des déformations orthopédiques du rachis chez ladolescent
DESCRIPTION:A DISTANCE\n\nFormation MIXTE (Classe virtuelle + e-learning)Pr
 érequis : KinésithérapeutePossibilité d indemnisation dans le cadre du
  DPC : 328 eurosPossibilité de prise en charge FIF PL : 250 Au cours de
  ce programme intégré (évaluation de pratiques professionnelles (EPP) +
  formation continue)\, vous pourrez dans un 1er temps auto-évaluer votre 
 pratique grâce à notre grille d audit clinique conçue par des experts d
 e la thématique. Cette séquence sera conclue par une classe virtuelle av
 ec votre formateur pour définir avec lui les points d améliorations de v
 otre pratique.La seconde phase consiste en un apport de connaissances et s
  ouvre par des cas cliniques. Ensuite\, vous retrouverez tout ce qu il fau
 t savoir sur le bilan et la prise en charge des déformations orthopédiqu
 es du rachis.Enfin\, la dernière phase vous amènera à comparer votre pr
 atique entre le début de la formation et la fin en complétant à nouveau
  la grille d audit clinique. Vous aurez alors accès à la synthèse de vo
 s évaluations ce qui vous permettra d identifier immédiatement les bén
 éfices de la formation !*classe virtuelle : mardi 10 septembre - 12h00-13
 h00Objectif général : Le but premier de ce programme  est de vous permet
 tre d évaluer votre pratique par rapport à cette thématique et de vous 
 inscrire dans une démarche d amélioration continue. A travers la partie 
 formation continue\, vous pourrez acquérir les savoirs et compétences n
 écessaires pour accompagner l autonomisation de vos patients adolescents 
 consultant pour une déformation orthopédique du rachis et leur garantir 
 une prise en charge active.Objectifs spécifiques :- Être capable d éval
 uer sa pratique clinique par un audit objectif et reproductible- Comprendr
 e l intérêt d intégrer une démarche d amélioration des pratiques tout
  au long de sa vie professionnelle- Maitriser les dernières données et c
 onnaissances scientifiques autour des déformations orthopédiques du rach
 is de l enfant (scolioses\, déformations dans le plan antéro-postérieur
 \, etc). - Etre en mesure d établir un Bilan Diagnostic Kinésithérapiqu
 e\, nécessaire à la mise en place du traitement\, adapté à l aide de b
 ilans validés en fonction de l âge et des besoins de l adolescent- Etre 
 en mesure de discerner les différentes approches rééducatives basées s
 ur les preuves (différences\, intérêts\, et limites).- Être capable de
  concevoir et conduire un projet thérapeutique kinésithérapique\, adapt
 é au patient et à sa situation et favorisant une attitude thérapeutique
  active du patient\n
DTSTART:20240909T220000Z
DTSTAMP:20240909T220000Z
DTEND:20240909T220000Z
END:VEVENT
END:VCALENDAR
