BEGIN:VCALENDAR
VERSION:2.0
PRODID:-//Sabre//Sabre VObject 3.1.3//EN
CALSCALE:GREGORIAN
METHOD:PUBLISH
BEGIN:VEVENT
UID:25CSOHIERC
SUMMARY:Thérapie manuelle et kinésithérapie analytique des affections os
 téo-articulaire (Concept SOHIER) - Session 2 -
DESCRIPTION:INSTITUT NATIONAL DE LA KINESITHERAPIE\n3 RUE LESPAGNOL\n(dans 
 la rue du Repos)\n75020 - PARIS\n\nPublic concerné: Masseurs-Kinésithér
 apeutes/PhysiothérapeutesPrérequis : Diplôme d État de Masso-Kinésith
 érapie\, avoir effectué la Session 1Dans l ensemble des concepts de thé
 rapie manuelle\, le concept Sohier se distingue par son originalité fonda
 mentale.C est une manière de penser la physiologie et la pathologie méca
 nique des articulations et de la colonne vertébrale\, par une analyse en 
 profondeur de l action de tous les facteurs en présence : les structures 
 anatomiques\, les forces qu elles subissent et leurs conséquences favorab
 les ou délétères sur la biologie cellulaire du système locomoteur.Il c
 onstitue un outil de prévention et de thérapeutique remarquable.À l iss
 ue de cette formation le stagiaire sera en capacité : d acquérir une m
 éthodologie d analyse des conséquences des dysfonctions mécaniques des 
 articulations\, en référence aux raisonnements cliniques et mécanobiolo
 gique \, de maîtriser les techniques spécifiques d examen de détectio
 n des désordres articulaires \, de maîtriser les gestes de mobilisatio
 ns articulaires etles techniques de stabilisations spécifiques.\n
DTSTART:20250115T230000Z
DTSTAMP:20250115T230000Z
DTEND:20250117T230000Z
END:VEVENT
END:VCALENDAR
