BEGIN:VCALENDAR
VERSION:2.0
PRODID:-//Sabre//Sabre VObject 3.1.3//EN
CALSCALE:GREGORIAN
METHOD:PUBLISH
BEGIN:VEVENT
UID:24D34
SUMMARY:Pathologies du coureur à pied : kinésithérapie et autonomisation
  du patient
DESCRIPTION:INSTITUT NATIONAL DE LA KINESITHERAPIE\n3 RUE LESPAGNOL\n(dans 
 la rue du Repos)\n75020 - PARIS\n\nTaux de satisfaction moyen des 2 derni
 ères années : 8.9/1037  stagiaires formésPré-requis : Kinésithérapeu
 te / Physiothérapeute8 à 12 millions de français de tous âges\, sexes 
 et niveaux pratiquent régulièrement la course à pied. C est une activit
 é « socle » que l on retrouve dans l entrainement et la pratique de nom
 breux sports.Une part non négligeable de ces pratiquants s entrainent seu
 l sans encadrement ni conseils.Au moins 50% des pratiquants se blessent ch
 aque année entrainant un besoin de soins efficients permettant un retour 
 au sport rapide\, sécuritaire et limitant le risque de récidive. La form
 ation abordera tous les aspects de la pratique et la prise en charge de la
  course à pied permettant au kinésithérapeute et à son patient de comp
 rendre\, modifier\, adapter la foulée\, choisir au mieux les chaussures\,
  gérer les contraintes physiques et traiter les pathologies.L acquisition
  par le patient d une autonomisation de la gestion des séances d entraine
 ments et concepts de rééducation permettra à celui-ci d optimiser sa pr
 ise en charge.- Découvrir les composantes de la gestuelle sportive (la fo
 ulée) et identifier leurs liens avec les blessures et la performance- Ana
 lyser et modifier la foulée en identifiant les liens avec les blessures- 
 Identifier les caractéristiques de la chaussure et découvrir l influence
  de la chaussure sur les blessures- S approprier les étapes du bilan des 
 pathologies du coureur- Acquérir les dernières données scientifiques gu
 idant la prise en charge kinésithérapique- Identifier les éléments que
  le patient pourra appliquer en auto-prise en charge.\n
DTSTART:20241003T220000Z
DTSTAMP:20241003T220000Z
DTEND:20241004T220000Z
END:VEVENT
END:VCALENDAR
