BEGIN:VCALENDAR
VERSION:2.0
PRODID:-//Sabre//Sabre VObject 3.1.3//EN
CALSCALE:GREGORIAN
METHOD:PUBLISH
BEGIN:VEVENT
UID:23D79
SUMMARY:Entorse et traumatismes de la cheville : drapeaux rouges et évalua
 tion initiale du patient
DESCRIPTION:CPTS DU GRAND NARBONNE\n20 RUE XAVIER RUEL\nPREMIER ETAGE\n1110
 0 - NARBONNE\n\nPré-requis : Masseur KinésithérapeuteLes drapeaux rouge
 s font maintenant partie intégrante de la pratique des masseurs-kinésith
 érapeutes. Leur maitrise est indispensable pour garantir la sécurité et
  la pertinence des soins auprès de patients dans le cadre de la rééduca
 tion prescrite mais aussi\, pour les autres formes de prise en charge. Dan
 s le cadre de l entorse de cheville\, le masseur-kinésithérapeute peut a
 ussi accueillir en accès direct des patients victimes d une entorse de ch
 eville dans deux cadres règlementaires bien précis.Dans une première si
 tuation\, en cas d urgence et en l absence d un médecin\, le masseur-kin
 ésithérapeute est habilité à accomplir les premiers actes de soins né
 cessaires en masso-kinésithérapie. Un compte rendu des actes accomplis d
 ans ces conditions est remis au médecin dès son intervention. Le cas de 
 l urgence ne doit pas être considérée comme une forme d accès direct 
 à proprement parlé mais constitue une amélioration du parcours de soins
  avec une prise en charge précoce avec mise en place des premiers soins d
 ans l attente d un rendez-vous médical.Le second cas est dans le cadre de
  protocole de coopération. En application du deuxième alinéa du A du II
 I de l article 66 de la loi no 2019-774 du 24 juillet 2019 susvisée\, le 
 protocole de coopération «Prise en charge du traumatisme en torsion de l
 a cheville par le masseur- kinésithérapeute dans le cadre d une structur
 e pluri-professionnelle»\, annexé au présent arrêté\, est autorisé s
 ur le territoire nationaldans les conditions prévues à la section 1 du c
 hapitre unique du titre Ier du livre préliminaire du code de la santé pu
 blique. ». L évolution du cadre réglementaire des protocoles de coopér
 ation notamment l élargissement des modalités d exercice (CPTS) permetta
 nt cette pratique augmente considérablement la part de kinésithérapeute
 s concernés.Pour toutes ces situations professionnelles\, la maitrise les
  drapeaux rouges et des critères de ré-orientation vers le médecin trai
 tant doivent être parfaitement maitrisés par le masseur-kinésithérapeu
 te.Objectifs principaux :- Connaitre la réglementation qui autorise la pr
 ise en charge d un patient dans le cadre des protocoles de coopération et
  dans le cadre de l urgence en l absence d un médecin.- Pouvoir accueilli
 r un patient après un traumatisme de cheville en torsion dans le cadre de
  l urgence et/ou d un protocole de coopération.- Rechercher les « drapea
 ux rouges » et extraire les critères de contre-indication à la rééduc
 ation et de ré-orientation vers un médecin ou un service d urgence.-  Co
 nnaitre les différentes évolutions possibles dans le cadre de la réédu
 cation prescrite\, les signes avant-coureur de complication et les drapeau
 x rouges à observer. Objectifs secondaires :- En présence de drapeaux ro
 uges\, savoir mettre en en place des soins de premier recours en fonction 
 des situations à risque\,-En présence de drapeaux rouges\, savoir prescr
 ire des dispositifs médicaux adaptés à chaque patient et les contre-ind
 ications en fonction des sujets.- Favoriser la communication inter-profess
 ionnelle entre masseur-kinésithérapeutes et médecins pour une meilleure
  coordination de soin et coopération.\n
DTSTART:20231123T230000Z
DTSTAMP:20231123T230000Z
DTEND:20231124T230000Z
END:VEVENT
END:VCALENDAR
