BEGIN:VCALENDAR
VERSION:2.0
PRODID:-//Sabre//Sabre VObject 3.1.3//EN
CALSCALE:GREGORIAN
METHOD:PUBLISH
BEGIN:VEVENT
UID:23D55
SUMMARY:Kinésithérapie des cicatrices de l'adulte
DESCRIPTION:INSTITUT NATIONAL DE LA KINESITHERAPIE\n3 RUE LESPAGNOL\n(dans 
 la rue du Repos)\n75020 - PARIS\n\nPré-requis : Kinésithérapeute / Phys
 iothérapeuteCette formation est proposée pour des patients d une tranche
  d âge spécifique\,  l adulte entre 20  et  +/-  60 ans\, en effet\, con
 cernant les autres tranches d âge\, L enfant présente des critères d é
 volution cicatricielle spécifiques et la personne âgée  a une cicatrisa
 tion plus problématique. Dans le domaine des plaies\, la recherche scient
 ifique s est surtout concentrée sur les retards de cicatrisation tels\, p
 laies chroniques ulcères variqueux et escarres. Certaines pathologies son
 t à l origine du blocage ou du ralentissement de leur cicatrisation. Elle
 s sont retrouvées le plus souvent chez le patient âgé. Il s agit alors 
 de troubles nutritionnels\, métaboliques\, vasculaires\, neurologiques\, 
 infectieux et médicamenteux. Pour les patients prises en charge par les m
 asseurs-kinésithérapeutes\, la problématique cicatricielle peut être m
 ultiple et concerne surtout les excès de cicatrisation. La cicatrice phys
 iologique tend à se rapprocher le plus possible du tissu initial et de la
  peau normale même si la restauration ad integrum ne se fait jamais.Cepen
 dant\, certaines cicatrices ne régressent pas spontanément et peuvent ê
 tre invalidantes sur les plans fonctionnel et esthétique. Il s agit de ci
 catrices anormales ou pathologiques.Le kinésithérapeute doit connaître 
 le mécanisme de l installation d une cicatrisation anormale pour pouvoir 
 indiquer et surtout contre-indiquer certaines techniques de prise en charg
 e\, qu elles soient manuelles ou mécaniques. Avec l accord du médecin\, 
 Il peut également avoir un rôle de conseil sur l utilisation de certains
  dispositifs compressifs et de certaines crèmes pharmaceutiques.Le kinés
 ithérapeute intervient sur les cicatrices qui n ont pas les caractéristi
 ques de la peau normale : souple\, plane\, mobile\, indolore\, claire. Que
 lle que soit leur localisation anatomique et leurs caractéristiques\, que
 l que soit le moment dans le temps où le kinésithérapeute interviendra\
 , il pourra être efficace. Il est tout à fait possible d être délétè
 re sur une cicatrice. L intérêt du patient et une bonne pratique profess
 ionnelle nous imposent de ne pas utiliser sans discernement toutes les tec
 hniques à notre portée.Certaines cicatrices ne régressent pas spontané
 ment et peuvent être invalidantes pour le patient tant sur le plan esthé
 tique que fonctionnel.Les indications de la kinésithérapie des cicatrice
 s sont nombreuses. A l issue de la formation\, le kinésithérapeute aura 
 la capacité de :- Maitriser les savoirs en lien avec les troubles cicatri
 ciels notamment cutanés- Connaître l anatomie de la peau et sa physiolog
 ie et sa physiopathologie cicatricielleet les troubles circulatoires pouva
 nt contribuer aux défauts de cicatrisation- Connaitre les traitements ada
 ptés au type de cicatrice- Comprendre les différentes méthodes- S appro
 prier les spécificités techniques- Maîtriser à travers le raisonnement
  clinique la prise en charge de la cicatrice et destroubles vasculaires de
  la cicatrisation- Mettre en lien ses savoirs et savoir-faire en lien avec
  la cicatrisation avec les éléments recueillis lors de l examen du patie
 nt afin de poser l indication de certaines techniques et de contre-indique
 r les autres- Construire et mettre en uvre une rééducation adaptée en
  fonction du type delésion et des particularités du patient en intégran
 t les techniques à visée circulatoire- Maîtriser à travers le raisonne
 ment clinique la prise en charge spécifique des cicatrices cutanées : ch
 oisir\, adapter et doser les techniques employées- Connaître les contre-
 indications- Informer et d éduquer le patient à des règles d hygiène d
 e vie et de prophylaxie enlui prodiguant des conseils et exercices d auto-
 rééducation- Effectuer une évaluation continue de sa pratique professio
 nnelle et de l évolution de l état de santé du patient\n
DTSTART:20231114T230000Z
DTSTAMP:20231114T230000Z
DTEND:20231115T230000Z
END:VEVENT
END:VCALENDAR
