BEGIN:VCALENDAR
VERSION:2.0
PRODID:-//Sabre//Sabre VObject 3.1.3//EN
CALSCALE:GREGORIAN
METHOD:PUBLISH
BEGIN:VEVENT
UID:23D34
SUMMARY:Syndrome du défilé des scalènes : kinésithérapie et autonomisa
 tion du patient
DESCRIPTION:ESPACE PAPIN CARCASSONNE\n1140 BOULEVARD DENIS PAPIN\n11000 - C
 ARCASSONNE\n\nPré-requis : Masseur KinésithérapeuteLa compréhension et
  la prise en charge de la physiologie et la physiopathologie du syndrome d
 u défilé des scalènes chez l adulte en désadaptation fonctionnelle dan
 s un contexte dégénératif\, traumatique ou post-opératoire ont évolu
 é profondément et très rapidement ces dernières années\, notamment so
 us l impulsion de la recherche française et internationale. Ces phénomè
 nes de compression d emprisonnement vasculo-nerveux au niveau du défilé 
 musculosquelettique cervico thoraco brachial responsables de douleurs neur
 opathiques périphériques\, de changements neuro sensoriels sensitifs et 
 moteurs entrainant des incapacités fonctionnelles tend à s accroitre ave
 c une augmentation multifactorielle des agents déclenchants (accident de 
 sport\, ou de la voie publique) associés aux facteurs favorisants que son
 t les maladies associées l état de stress de nos patients ainsi que le v
 ieillissement de la population avec conséquence également un coup financ
 ier non négligeable pour la sécurité sociale  (arrêt de travail\, recl
 assement professionnel\, ).La visée de ce stage est de permettre une re
 mise à jour complète des savoirs et savoir-faire afin de les rendre conf
 ormes aux connaissances actuelles de la biomécanique à la physiopatholog
 ie et du bilan au traitement en prenant en compte le patient dans sa globa
 lité dans ses dimensions structurelles\, environnementale et psycho compo
 rtementale avec la mise en place d un programme d auto-rééducation\, pou
 r conduire vers l autonomisation du patient source de VITALITE et de bien-
 être.A l issue de ce stage\, le stagiaire sera en capacité de :- Compren
 dre et connaitre l organisation du système neuro musculo squelettique au 
 niveau du défilé des scalènes et son impact symptomatique et clinique e
 n cas de syndrome d emprisonnement de pressurisation du contenu neuro vasc
 ulaire par le contenant musculosquelettique\,- Maitriser les principes de 
 sécurité de mobilisation/ étirement\,- Maitriser l usage des outils de 
 diagnostic différentiel de la douleur musculo squelettique et neuropathiq
 ue des unités fonctionnelles rachidiennes et périphérique (ceinture sca
 pulaire\, membre supérieur)\,- Savoir interpréter des signes cliniques e
 n lien avec les symptômes du patient (douleur neuropathique\, changement 
 neuro sensoriel et vasculaire\, perte de force et d endurance\, atrophie m
 usculaire et aréflexie)\, - Savoir réaliser et utiliser un Bilan Diagnos
 tic Kinésithérapique (BDK)\, d entrée\, intermédiaires et final\, en p
 articulier : . Savoir évaluer et tracer la nécessité et les objectifs d
 e rééducation via le BDK. Savoir réaliser des techniques manuelles de m
 obilisation neuro musculo squelettique et en particulier les mobilisations
  neuroméningés en neuro glissement\, neuro convergence et neuro tension 
 qui devront aboutir à de la neuro-gymnastique réalisée seul chez lui pa
 r le patient. Savoir éduquer le patient pour qu il réalise des exercices
  en tenant compte des degrés de sévérité et irritabilité des symptôm
 es. Savoir proposer des techniques à des cas complexes (douleur neurogèn
 e tronculaire du membre supérieur affectant les nerfs périphériques)- T
 raiter le dysfonctionnement plexique\, articulaire et musculaire par une a
 pproche mécanique du traitement de la douleur via une mobilisation de tou
 tes les interfaces mécaniques axiales et périphériques associée à une
  participation active du patient lors des différentes phases de prise en 
 charge\,- Proposer un programme d auto-rééducation post soins avec des o
 utils simples et accessibles que le patient peut utiliser en autonomie.\n
DTSTART:20230629T220000Z
DTSTAMP:20230629T220000Z
DTEND:20230630T220000Z
END:VEVENT
END:VCALENDAR
