BEGIN:VCALENDAR
VERSION:2.0
PRODID:-//Sabre//Sabre VObject 3.1.3//EN
CALSCALE:GREGORIAN
METHOD:PUBLISH
BEGIN:VEVENT
UID:23D29
SUMMARY:Tendinopathies du membre inferieur : kinésithérapie et autonomisa
 tion du patient
DESCRIPTION:HOTEL IBIS NIMES Ouest\n268\, Rue de L'hostellerie\nPARC HOTELI
 ER VILLE ACTIVE\n30900 - NIMES\n\nPrérequis : Kinésithérapeute / Physio
 thérapeuteLes tendinopathies du membre inférieur représentent la majeur
 e partie des pathologies du membre inférieur chez les personnes actives e
 t sportives adultes et retraitées. Un tiers des coureurs auront une tendi
 nopathie d Achille\, un cinquième des pratiquants des sports collectifs a
 uront une tendinopathie rotulienne.Ces pathologies invalidantes ont vu leu
 rs concepts de prise en charge fortement évoluer ces dernières années. 
 Il est nécessaire que les patients s approprient la gestion de leurs acti
 vités physiques et des programmes de rééducation. Cette alliance théra
 peutique permettra une résolution rapide et durable de leur symptomatolog
 ie.- Améliorer les pratiques dans une thématique\, « les tendinopathies
  du membre inferieur »\, atteintes de l appareil musculo squelettique tr
 ès fréquemment rencontrées dans l activité quotidienne des MK \,- Prop
 oser une prise en charge qui permette une autonomie la plus rapide possibl
 e du patient \,- Construire un programme de soins avec la participation ac
 tive du patient\, aux différentes phases.- Prévenir les récidives grâc
 e a un programme  d auto rééducation e et de prévention en fin de trait
 ement- Connaitre les dernières publications dans les domaines de la physi
 opathologie et les mécanismes de la douleur- S approprier le bilan et les
  tests cliniques validés des tendinopathies- Identifier les erreurs de ge
 stion de la charge d activité- Organiser la prise en charge en s appuyant
  sur les données de la science- Identifier les éléments que le patient 
 pourra appliquer en auto-prise en charge- Éduquer le patient à l auto r
 ééducation et l auto gestion- Être en capacité d établir un raisonnem
 ent clinique sur une pathologie multi factorielle.\n
DTSTART:20230413T220000Z
DTSTAMP:20230413T220000Z
DTEND:20230414T220000Z
END:VEVENT
END:VCALENDAR
