BEGIN:VCALENDAR
VERSION:2.0
PRODID:-//Sabre//Sabre VObject 3.1.3//EN
CALSCALE:GREGORIAN
METHOD:PUBLISH
BEGIN:VEVENT
UID:23D15
SUMMARY:Entorse et traumatismes de la cheville : drapeaux rouges et évalua
 tion initiale du patient
DESCRIPTION:INTER HOTEL DU LAC\nCHEMIN DE LABARRE\n09000 - FOIX\n\nPré-req
 uis : Masseur KinésithérapeuteLes drapeaux rouges font maintenant partie
  intégrante de la pratique des masseurs-kinésithérapeutes. Leur maitris
 e est indispensable pour garantir la sécurité et la pertinence des soins
  auprès de patients dans le cadre de la rééducation prescrite mais auss
 i\, pour les autres formes de prise en charge. Dans le cadre de l entorse 
 de cheville\, le masseur-kinésithérapeute peut aussi accueillir en accè
 s direct des patients victimes d une entorse de cheville dans deux cadres 
 règlementaires bien précis.Dans une première situation\, en cas d urgen
 ce et en l absence d un médecin\, le masseur-kinésithérapeute est habil
 ité à accomplir les premiers actes de soins nécessaires en masso-kinés
 ithérapie. Un compte rendu des actes accomplis dans ces conditions est re
 mis au médecin dès son intervention. Le cas de l urgence ne doit pas êt
 re considérée comme une forme d accès direct à proprement parlé mais 
 constitue une amélioration du parcours de soins avec une prise en charge 
 précoce avec mise en place des premiers soins dans l attente d un rendez-
 vous médical.Le second cas est dans le cadre de protocole de coopération
 . En application du deuxième alinéa du A du III de l article 66 de la lo
 i no 2019-774 du 24 juillet 2019 susvisée\, le protocole de coopération 
 «Prise en charge du traumatisme en torsion de la cheville par le masseur-
  kinésithérapeute dans le cadre d une structure pluri-professionnelle»\
 , annexé au présent arrêté\, est autorisé sur le territoire nationald
 ans les conditions prévues à la section 1 du chapitre unique du titre Ie
 r du livre préliminaire du code de la santé publique. ». L évolution d
 u cadre réglementaire des protocoles de coopération notamment l élargis
 sement des modalités d exercice (CPTS) permettant cette pratique augmente
  considérablement la part de kinésithérapeutes concernés.Pour toutes c
 es situations professionnelles\, la maitrise les drapeaux rouges et des cr
 itères de ré-orientation vers le médecin traitant doivent être parfait
 ement maitrisés par le masseur-kinésithérapeute.Objectifs principaux :-
  Connaitre la réglementation qui autorise la prise en charge d un patient
  dans le cadre des protocoles de coopération et dans le cadre de l urgenc
 e en l absence d un médecin.- Pouvoir accueillir un patient après un tra
 umatisme de cheville en torsion dans le cadre de l urgence et/ou d un prot
 ocole de coopération.- Rechercher les « drapeaux rouges » et extraire l
 es critères de contre-indication à la rééducation et de ré-orientatio
 n vers un médecin ou un service d urgence.-  Connaitre les différentes 
 évolutions possibles dans le cadre de la rééducation prescrite\, les si
 gnes avant-coureur de complication et les drapeaux rouges à observer. Obj
 ectifs secondaires :- En présence de drapeaux rouges\, savoir mettre en e
 n place des soins de premier recours en fonction des situations à risque\
 ,-En présence de drapeaux rouges\, savoir prescrire des dispositifs médi
 caux adaptés à chaque patient et les contre-indications en fonction des 
 sujets.- Favoriser la communication inter-professionnelle entre masseur-ki
 nésithérapeutes et médecins pour une meilleure coordination de soin et 
 coopération.\n
DTSTART:20230504T220000Z
DTSTAMP:20230504T220000Z
DTEND:20230505T220000Z
END:VEVENT
END:VCALENDAR
