BEGIN:VCALENDAR
VERSION:2.0
PRODID:-//Sabre//Sabre VObject 3.1.3//EN
CALSCALE:GREGORIAN
METHOD:PUBLISH
BEGIN:VEVENT
UID:22D102
SUMMARY:Accueillir en accès direct sécurisé un patient présentant une l
 ombalgie
DESCRIPTION:HOTEL CAMPANILE PERPIGNAN NORD\nMAS DE LA GARRIGUE\nPEAGE PERPI
 GNAN NORD\n66600 - RIVESALTES\n\nPré-requis : Kinésithérapeute / Physio
 thérapeuteL intention générale du projet\, du point de vue de la pratiq
 ue libérale et institutionnelle\, est\, pour le kinésithérapeute formé
 \, d acquérir ou de perfectionner les techniques de kinésithérapie manu
 elle appliquées aux pathologies rachidiennes et donc d améliorer l offre
  de soins de par la qualité de la prestation mais aussi du plus grand nom
 bre de professionnels formés (accès aux soins).L ouverture dans le cadre
  de protocole de soins de l accès direct des patients lombalgiques néces
 site la formation des kinésithérapeutes pour sécuriser les soins dispen
 sés et garantir la réorientation ou la consultation médicale dès que n
 écessaire.À l issue de cette formation\, le stagiaire sera en capacité 
 :- de maîtriser les savoirs conformes aux recommandations de prise en cha
 rge des rachialgies et aux standards internationaux \,- d utiliser ces sav
 oirs pour exécuter un examen clinique fiable du patient \,- de donner des
  conseils/explications pertinents \,- d effectuer un bilan \,- de définir
  l indication (ou la contre-indication) \,- d élaborer un pronostic et le
  communiquer à un autre professionnel de santé \,- d effectuer\, si néc
 essaire\, les techniques manuelles\, y compris celles déjà connues\, de 
 façon appropriée \,- de choisir\, doser et faire évoluer les exercices 
 en fonction de la situation clinique \,- de travailler en équipe avec d a
 utres professionnels de santé \,- de savoir réorienter vers le médecin 
 dès que nécessaire.\n
DTSTART:20221124T230000Z
DTSTAMP:20221124T230000Z
DTEND:20221125T230000Z
END:VEVENT
END:VCALENDAR
