BEGIN:VCALENDAR
VERSION:2.0
PRODID:-//Sabre//Sabre VObject 3.1.3//EN
CALSCALE:GREGORIAN
METHOD:PUBLISH
BEGIN:VEVENT
UID:22TMD
SUMMARY:Thérapie Manuelle Debout
DESCRIPTION:HOTEL OCEANIA\n17 RUE DU POHER KERDREZEC\n29000 - QUIMPER\n\nA 
 l heure où les recommandations nous incitent à rendre acteur nos patient
 s\, pourquoi continuer à le traiter sur table? La thérapie manuelle est-
 elle une pratique exclusivement passive ? La formation thérapie manuelle 
 en position debout vous apporte une réponse à ces questions. Il est ais
 é de comprendre l intérêt d une proposition de thérapie manuelle en po
 sition debout\, position fonctionnelle de référence :  Patient acteur 
 de sa régulation posturale. Liberté dans les 3 plans permettant l éme
 rgences des mouvements d auto-régulations posturaux. Régulation multi-
 sensorielle\, utilisant les 3 entrées sensorielles extéroceptif\, propri
 oceptif et intéroceptif. Thérapie Manuelle ? La formation axe le traitem
 ent sur une approche tissulaire et donne les bases pour utiliser ce nouvea
 u référentiel vertical avec vos outils.Neuroscience de la douleur ?La fo
 rmation propose :  une mise à jour des bases simplifiés de neuroscienc
 e de la douleur. Un modèle simple d éducation aux neurosciences de la 
 douleur pour vos patients. Une compréhension du modèle de régulation 
 multi-sensorielle permettant de détecter puis proposer une méthode de r
 ééducation par la thérapie manuelle debout.  A l issue de la formation\
 , le participant sera capable de : Réaliser des tests et évaluations s
 imples et rapides\, afin de détecter les zones d hypomobilités rachidien
 ne en lien avec le motif de consultation ou un dérèglement postural.  
 Réaliser un traitement en position debout du rachis améliorant la propos
 ition de prise en charge de la douleur avec une approche globale\, novatri
 ce\, replaçant le patient en acteur de sa séance de thérapie manuelle.
  En accord avec les dernières recommandations en neuroscience de la dou
 leur\, expérimenter la mise en place d une coconstruction d une séance d
 e thérapie manuelle en collaboration avec son patient. Contribuer à am
 éliorer l adaptabilité du thérapeute à son patient proposant le traite
 ment en position debout en remplacement ou complément de sa pratique sur 
 table. Proposition des plus adaptée aux patients douloureux chroniques\, 
 aiguë\, âgés\, sportifs\, femmes enceintes. Approfondir les connaissa
 nces fondamentales en neuroscience de la douleur. Concevoir et proposer un
  modèle explicatif simplifié d éducation aux neurosciences de la douleu
 r.\n
DTSTART:20220317T230000Z
DTSTAMP:20220317T230000Z
DTEND:20220318T230000Z
END:VEVENT
END:VCALENDAR
