BEGIN:VCALENDAR
VERSION:2.0
PRODID:-//Sabre//Sabre VObject 3.1.3//EN
CALSCALE:GREGORIAN
METHOD:PUBLISH
BEGIN:VEVENT
UID:22D65
SUMMARY:Epaule tendineuse\, quelles méthodes de kinésithérapie aujourd'h
 ui ?
DESCRIPTION:LES BAINS DE CHATEAU\n22 CHEMIN DE PALAMA\n13013 - MARSEILLE\n\
 nPré-requis : Kinésithérapeute / PhysiothérapeuteLa tendinopathie de l
 a coiffe des rotateurs est la plus fréquente des pathologies de l épaule
  \, c est également un motif fréquent et en augmentation de prescription
  de kinésithérapie. C est aussi le TMS du membre supérieur le plus diag
 nostiqué cliniquement\, avec une prévalence de 7\,4 %. Cette formation e
 st à destination des kinésithérapeutes quel que soit leur mode d exerci
 ce. Elle s inscrit dans le cadre de l amélioration des pratiques diagnost
 iques et des prises en charges thérapeutiques autant que préventives.Apr
 ès un examen clinique complet\, les kinésithérapeutes pourront pratique
 r et valider par l expérience les gains de mobilité obtenus par la corre
 ction active des décentrages gléno-huméraux\, par les levées de tensio
 ns et mobilisations associées. Ces techniques sont adaptées au traitemen
 t et à la prévention des pathologies de la coiffe et des TMS des membres
  supérieurs.Elles sont aussi adaptées et performantes pour la prise en c
 harge de l épaule du sportif jeune\, ou senior. Des cas cliniques illustr
 ent les résultats attendus. Cette formation théorique et pratique s appu
 ie sur les résultats d études scientifiques publiées\, validant l effic
 acité du concept 3 C\, qui est cohérent avec les recommandations de la H
 AS. Les participants pourront appliquer immédiatement ces techniques vali
 dées et actuelles.À l issue de cette formation\, le stagiaire sera en ca
 pacité :- d utiliser des savoirs anatomiques et biomécaniques\, utiles 
 à la prise en charge \,- de maîtriser les spécificités de l ensemble d
 e pathologies de coiffe rencontrées dans la pratique courante \,- de maî
 triser\, à travers le raisonnement clinique\, la prise en charge de l ép
 aule tendineuse \,- de maîtriser l ensemble des techniques d étirements\
 , de mobilisations et levées de tensions \,- d adapter le renforcement mu
 sculaire \,- d aborder les problématiques spécifiques aux sportifs\, en 
 particulier dans tous les sports d armé du bras.\n
DTSTART:20220602T220000Z
DTSTAMP:20220602T220000Z
DTEND:20220603T220000Z
END:VEVENT
END:VCALENDAR
