BEGIN:VCALENDAR
VERSION:2.0
PRODID:-//Sabre//Sabre VObject 3.1.3//EN
CALSCALE:GREGORIAN
METHOD:PUBLISH
BEGIN:VEVENT
UID:21D96
SUMMARY:Reconditionnement fonctionnel du rachis : bilan et protocole dynami
 que
DESCRIPTION:IFMK\nSite Universitaire Montfoulon\n61250 - DAMIGNY\n\nPublic 
 concerné: MASSEURS KINÉSITHÉRAPEUTESPrérequis : DIPLÔME D ÉTAT DE MA
 SSO-KINÉSITHÉRAPIEVidéo de présentationPermettre au professionnel d am
 éliorer son efficience par : - Un examen clinique manuel et instrumenté 
 de l appareil locomoteur (tests\, évaluations et niveaux de preuve)\, per
 mettant de poser un diagnostic kinésithérapique très précis.- Un proto
 cole de rééducation fonctionnelle dynamique\, issu des méthodes améric
 aines et canadiennes et jouit d un degré de validation scientifique remar
 quable\, ce qui lui vaut d être recommandé par la Haute Autorité de San
 té.- L efficacité thérapeutique\, grâce à un programme novateur\, qui
  est reconnu par les médecins et les chirurgiens du rachis.Cette formatio
 n vous permet\, dans le cadre de la lombalgie aigüe et de la lombalgie ch
 ronique\, de réaliser\, après un examen clinique précis\, un diagnostic
  fonctionnel\, un protocole de prise en charge efficace.\n
DTSTART:20211014T220000Z
DTSTAMP:20211014T220000Z
DTEND:20211015T220000Z
END:VEVENT
END:VCALENDAR
