BEGIN:VCALENDAR
VERSION:2.0
PRODID:-//Sabre//Sabre VObject 3.1.3//EN
CALSCALE:GREGORIAN
METHOD:PUBLISH
BEGIN:VEVENT
UID:20D85
SUMMARY:Reconditionnement fonctionnel du rachis : bilan et protocole dynami
 que
DESCRIPTION:MAISON INTER JEUNES\n7 RUE CHARLET\n88000 - EPINAL\n\nPublic co
 ncerné: MASSEURS KINÉSITHÉRAPEUTESPrérequis : DIPLÔME D ÉTAT DE MASS
 O-KINÉSITHÉRAPIEPermettre au professionnel d améliorer son efficience p
 ar : - Un examen clinique manuel et instrumenté de l appareil locomoteur 
 (tests\, évaluations et niveaux de preuve)\, permettant de poser un diagn
 ostic kinésithérapique très précis.- Un protocole de rééducation fon
 ctionnelle dynamique\, issu des méthodes américaines et canadiennes et j
 ouit d un degré de validation scientifique remarquable\, ce qui lui vaut 
 d être recommandé par la Haute Autorité de Santé.- L efficacité thér
 apeutique\, grâce à un programme novateur\, qui est reconnu par les méd
 ecins et les chirurgiens du rachis.Cette formation vous permet\, dans le c
 adre de la lombalgie aigüe et de la lombalgie chronique\, de réaliser\, 
 après un examen clinique précis\, un diagnostic fonctionnel\, un protoco
 le de prise en charge efficace.\n
DTSTART:20201008T220000Z
DTSTAMP:20201008T220000Z
DTEND:20201009T220000Z
END:VEVENT
END:VCALENDAR
