BEGIN:VCALENDAR
VERSION:2.0
PRODID:-//Sabre//Sabre VObject 3.1.3//EN
CALSCALE:GREGORIAN
METHOD:PUBLISH
BEGIN:VEVENT
UID:20D51
SUMMARY:Reconditionnement fonctionnel du rachis : bilan et protocole dynami
 que
DESCRIPTION:INSTITUT NATIONAL DE LA KINESITHERAPIE\n3 RUE LESPAGNOL\n(dans 
 la rue du Repos)\n75020 - PARIS\n\nPublic concerné: MASSEURS KINÉSITHÉR
 APEUTESPrérequis : DIPLÔME D ÉTAT DE MASSO-KINÉSITHÉRAPIEPermettre au
  professionnel d améliorer son efficience par : - Un examen clinique manu
 el et instrumenté de l appareil locomoteur (tests\, évaluations et nivea
 ux de preuve)\, permettant de poser un diagnostic kinésithérapique très
  précis.- Un protocole de rééducation fonctionnelle dynamique\, issu de
 s méthodes américaines et canadiennes et jouit d un degré de validation
  scientifique remarquable\, ce qui lui vaut d être recommandé par la Hau
 te Autorité de Santé.- L efficacité thérapeutique\, grâce à un progr
 amme novateur\, qui est reconnu par les médecins et les chirurgiens du ra
 chis.Cette formation vous permet\, dans le cadre de la lombalgie aigüe et
  de la lombalgie chronique\, de réaliser\, après un examen clinique pré
 cis\, un diagnostic fonctionnel\, un protocole de prise en charge efficace
 .\n
DTSTART:20201217T230000Z
DTSTAMP:20201217T230000Z
DTEND:20201218T230000Z
END:VEVENT
END:VCALENDAR
