BEGIN:VCALENDAR
VERSION:2.0
PRODID:-//Sabre//Sabre VObject 3.1.3//EN
CALSCALE:GREGORIAN
METHOD:PUBLISH
BEGIN:VEVENT
UID:21FITMR75A
SUMMARY:Thérapie manuelle du rachis - Le concept SSI (Stratégique\, Syner
 gique et Intégral)
DESCRIPTION:INSTITUT NATIONAL DE LA KINESITHERAPIE\n3 RUE LESPAGNOL\n(dans 
 la rue du Repos)\n75020 - PARIS\n\nPublic concerné: MASSEURS KINÉSITHÉR
 APEUTESPrérequis : DIPLÔME D ÉTAT DE MASSO-KINÉSITHÉRAPIEVidéo de pr
 ésentationPratiqueCette «FORMATION  EN THÉRAPIE  MANUELLE  DU  RACHIS-C
 ONCEPT SSI»\, organisée sur 2x2 jours (soient 30 heures)\,est basée sur
  des techniques alliant écoute\, douceur et  finesse. Elle a pour but de 
 former les masseurs-kinésithérapeutes à  la  globalité  de fonctionnem
 ent et du traitement du corps humain à partir de techniques ciblées sur 
 le rachis. À  l issue  de  la  formation\, les  stagiaires  seront  capab
 les  d établir  un  bilan  précis  de l ensemble  du  rachis  de  leurs 
  patients  et  de  remédier  aux  problèmes  retrouvés  à  l aide  des
  techniques de Thérapie Manuelle apprises lors de cette formation. Nombre
   de  douleurs  rachidiennes  mais  aussi  périphériques  ne  trouvent  
 pas leur cause à l endroit de l expression de la douleur\, mais sont souv
 ent en lien avec une  origine  (lésion  primaire)  à  distance  de  la  
 douleur\,  et  à  la  fois  une  sur-programmation  du  système  sympath
 ique\, que  les  stagiaires  seront  capables  de réguler à l issue de l
 a formation.La «FORMATION  ENTHÉRAPIE MANUELLE DU  RACHIS-CONCEPT SSI»\
 , intègre nombre  de  techniques\,  qu elles  soient structurelles\, fonc
 tionnelles ou  réflexes\,  que  les stagiaires seront aptes à pratiquer 
 à l issue de la formation. Elle s appuie sur les modalités de  prise  en
  charge  des pathologies rachidiennes\,  telles que définies par la Haute
  Autorité de Santé.\n
DTSTART:20210311T230000Z
DTSTAMP:20210311T230000Z
DTEND:20210312T230000Z
END:VEVENT
END:VCALENDAR
