BEGIN:VCALENDAR
VERSION:2.0
PRODID:-//Sabre//Sabre VObject 3.1.3//EN
CALSCALE:GREGORIAN
METHOD:PUBLISH
BEGIN:VEVENT
UID:18D93
SUMMARY:Kinésithérapie respiratoire dans la bronchiolite et l'asthme du n
 ourrisson
DESCRIPTION:INSTITUT NATIONAL DE LA KINESITHERAPIE\n3 RUE LESPAGNOL\n(dans 
 la rue du Repos)\n75020 - PARIS\n\nLa Bronchiolite survient en période é
 pidémique chez les nourrissons de 1 mois à 2 ans avec 480 000 cas enviro
 n par an\, soit 30% de cette classe d âge. Le maximum de fréquence entre
  2 et 8 mois. Le  début de l épidémie se situe vers la mi octobre\, ave
 c un pic en décembre\, et se termine à la fin de l hiver.Le taux d augme
 ntation est de 9à 10 % par an depuis 1996En secteur hospitalier comme e
 n ambulatoire la kinésithérapie respiratoire a principalement comme obje
 ctif d assurer la liberté des voies aériennes hautes et basses\, chez le
  nourrisson comme chez l enfant. Les indications sont principalement les b
 ronchopathies (bronchiolite\, bronchite\, asthme du nourrisson) ainsi que 
 les pneumopathies. Le bilan diagnostic en kinésithérapie est avant tout 
 clinique. Une sérieuse connaissance de l auscultation pulmonaire et des s
 ignes de détresse respiratoire chez l enfant est requise pour proposer un
  projet thérapeutique adapté à partir du bilan diagnostic kiné.  L aé
 rosolthérapie et les techniques d inhalation s appliquent également à l
  enfant.Les techniques manuelles de modulation de flux et de compression d
 ynamique des bronches  (techniques expiratoires lentes\, techniques expira
 toires forcées) se complètent si nécessaire d un support instrumental. 
 Les techniques de lavage et de désencombrement des voies aériennes supé
 rieures sont particulièrement nécessaire pour le nourrisson. L organisat
 ion des soins en ambulatoire avec les systèmes de garde permettent d assu
 rer la continuité des soins.                                En permettant
  au professionnel : d être en capacité d évaluer la situation cliniqu
 e du nourrisson et de l enfant\, et de  décider d une prise en charge th
 érapeutique ou non d être en capacité de faire le diagnostic de l enc
 ombrement des VAS et VAI d être en capacité d autoévaluer ses pratiqu
 es professionnelles d approfondir les connaissances en anatomo-pathologi
 e respiratoire chez l enfant de maitriser les techniques de  désencombr
 ement des VAS et VAI de maitriser l utilisation des aérosols : pourquoi
 \, quand et comment les utiliser ? de mesurer l impact de la formation s
 ur la pratique professionnelle\n
DTSTART:20180920T220000Z
DTSTAMP:20180920T220000Z
DTEND:20180921T220000Z
END:VEVENT
END:VCALENDAR
